BEGIN:VCALENDAR
VERSION:2.0
PRODID:-//horsealert.local//NONSGML kigkonsult.se iCalcreator 2.10.5//
CALSCALE:GREGORIAN
X-WR-TIMEZONE:Europe/Dublin
BEGIN:VTIMEZONE
TZID:Etc/GMT-1
BEGIN:STANDARD
DTSTART:20010101T000000
TZOFFSETFROM:+0100
TZOFFSETTO:+0100
TZNAME:GMT +01:00
END:STANDARD
END:VTIMEZONE
BEGIN:VEVENT
UID:20260423T213233CEST-0681njRUUV@horsealert.local
DTSTAMP:20260423T190433Z
CATEGORIES:Horse Alerts
DESCRIPTION:Compare Prices At attheraces.com/odds Median Auction Race
DTSTART:20150327T190500
LOCATION:Eire
SUMMARY:Horse Racing:Compare Prices At attheraces.com/odds Median Auction R
 ace
END:VEVENT
END:VCALENDAR
