BEGIN:VCALENDAR
VERSION:2.0
PRODID:-//horsealert.local//NONSGML kigkonsult.se iCalcreator 2.10.5//
CALSCALE:GREGORIAN
X-WR-TIMEZONE:Europe/Dublin
BEGIN:VTIMEZONE
TZID:Etc/GMT-1
BEGIN:STANDARD
DTSTART:20010101T000000
TZOFFSETFROM:+0100
TZOFFSETTO:+0100
TZNAME:GMT +01:00
END:STANDARD
END:VTIMEZONE
BEGIN:VEVENT
UID:20260423T213210CEST-7839KKEmeC@horsealert.local
DTSTAMP:20260423T190410Z
CATEGORIES:Horse Alerts
DESCRIPTION:Play Golf Before Racing At Southwell \'Hands And Heels\' Handic
 ap Hurdle \(Conditional/Amateur\)
DTSTART:20150324T165500
LOCATION:England
SUMMARY:Horse Racing:Play Golf Before Racing At Southwell \'Hands And Heels
 \' Handicap Hurdle \(Conditional/Amateur\)
END:VEVENT
END:VCALENDAR
