BEGIN:VCALENDAR
VERSION:2.0
PRODID:-//horsealert.local//NONSGML kigkonsult.se iCalcreator 2.10.5//
CALSCALE:GREGORIAN
X-WR-TIMEZONE:Europe/Dublin
BEGIN:VTIMEZONE
TZID:Etc/GMT-1
BEGIN:STANDARD
DTSTART:20010101T000000
TZOFFSETFROM:+0100
TZOFFSETTO:+0100
TZNAME:GMT +01:00
END:STANDARD
END:VTIMEZONE
BEGIN:VEVENT
UID:20260423T213253CEST-58913L5zfl@horsealert.local
DTSTAMP:20260423T190453Z
CATEGORIES:Horse Alerts
DESCRIPTION:Ultima Business Solutions Silver Jubilee Handicap Chase
DTSTART:20150321T151000
LOCATION:England
SUMMARY:Horse Racing:Ultima Business Solutions Silver Jubilee Handicap Chas
 e
END:VEVENT
END:VCALENDAR
