BEGIN:VCALENDAR
VERSION:2.0
PRODID:-//horsealert.local//NONSGML kigkonsult.se iCalcreator 2.10.5//
CALSCALE:GREGORIAN
X-WR-TIMEZONE:Europe/Dublin
BEGIN:VTIMEZONE
TZID:Etc/GMT-1
BEGIN:STANDARD
DTSTART:20010101T000000
TZOFFSETFROM:+0100
TZOFFSETTO:+0100
TZNAME:GMT +01:00
END:STANDARD
END:VTIMEZONE
BEGIN:VEVENT
UID:20260423T212734CEST-2142fVIcAl@horsealert.local
DTSTAMP:20260423T190434Z
CATEGORIES:Horse Alerts
DESCRIPTION:Visit toals.co.uk Rated Hurdle
DTSTART:20150322T144000
LOCATION:Northern Ireland
SUMMARY:Horse Racing:Visit toals.co.uk Rated Hurdle
END:VEVENT
END:VCALENDAR
