BEGIN:VCALENDAR
VERSION:2.0
PRODID:-//horsealert.local//NONSGML kigkonsult.se iCalcreator 2.10.5//
CALSCALE:GREGORIAN
X-WR-TIMEZONE:Europe/Dublin
BEGIN:VTIMEZONE
TZID:Etc/GMT-1
BEGIN:STANDARD
DTSTART:20010101T000000
TZOFFSETFROM:+0100
TZOFFSETTO:+0100
TZNAME:GMT +01:00
END:STANDARD
END:VTIMEZONE
BEGIN:VEVENT
UID:20260423T212820CEST-1374ofzfV7@horsealert.local
DTSTAMP:20260423T190420Z
CATEGORIES:Horse Alerts
DESCRIPTION:Brian Cody & www.aclsurgery.ie Mares Beginners Chase
DTSTART:20150321T164000
LOCATION:Eire
SUMMARY:Horse Racing:Brian Cody & www.aclsurgery.ie Mares Beginners Chase
END:VEVENT
END:VCALENDAR
