BEGIN:VCALENDAR
VERSION:2.0
PRODID:-//horsealert.local//NONSGML kigkonsult.se iCalcreator 2.10.5//
CALSCALE:GREGORIAN
X-WR-TIMEZONE:Europe/Dublin
BEGIN:VTIMEZONE
TZID:Etc/GMT-1
BEGIN:STANDARD
DTSTART:20010101T000000
TZOFFSETFROM:+0100
TZOFFSETTO:+0100
TZNAME:GMT +01:00
END:STANDARD
END:VTIMEZONE
BEGIN:VEVENT
UID:20260423T213042CEST-4517VIWlO2@horsealert.local
DTSTAMP:20260423T190442Z
CATEGORIES:Horse Alerts
DESCRIPTION:Sika Liquid Plastics Novices\' Handicap Hurdle
DTSTART:20150319T143000
LOCATION:Wales
SUMMARY:Horse Racing:Sika Liquid Plastics Novices\' Handicap Hurdle
END:VEVENT
END:VCALENDAR
