BEGIN:VCALENDAR
VERSION:2.0
PRODID:-//horsealert.local//NONSGML kigkonsult.se iCalcreator 2.10.5//
CALSCALE:GREGORIAN
X-WR-TIMEZONE:Europe/Dublin
BEGIN:VTIMEZONE
TZID:Etc/GMT-1
BEGIN:STANDARD
DTSTART:20010101T000000
TZOFFSETFROM:+0100
TZOFFSETTO:+0100
TZNAME:GMT +01:00
END:STANDARD
END:VTIMEZONE
BEGIN:VEVENT
UID:20260423T212912CEST-2062U7VJtC@horsealert.local
DTSTAMP:20260423T190412Z
CATEGORIES:Horse Alerts
DESCRIPTION:Christy Lynch Of The Order Of Malta Memorial Novice Handicap Ch
 ase \(0-123\)
DTSTART:20150317T162500
LOCATION:Eire
SUMMARY:Horse Racing:Christy Lynch Of The Order Of Malta Memorial Novice Ha
 ndicap Chase \(0-123\)
END:VEVENT
END:VCALENDAR
