BEGIN:VCALENDAR
VERSION:2.0
PRODID:-//horsealert.local//NONSGML kigkonsult.se iCalcreator 2.10.5//
CALSCALE:GREGORIAN
X-WR-TIMEZONE:Europe/Dublin
BEGIN:VTIMEZONE
TZID:Etc/GMT-1
BEGIN:STANDARD
DTSTART:20010101T000000
TZOFFSETFROM:+0100
TZOFFSETTO:+0100
TZNAME:GMT +01:00
END:STANDARD
END:VTIMEZONE
BEGIN:VEVENT
UID:20260423T212952CEST-0941Acp0Zc@horsealert.local
DTSTAMP:20260423T190452Z
CATEGORIES:Horse Alerts
DESCRIPTION:Micheal O\'Murchadha Memorial Rated Hurdle
DTSTART:20150317T155000
LOCATION:Eire
SUMMARY:Horse Racing:Micheal O\'Murchadha Memorial Rated Hurdle
END:VEVENT
END:VCALENDAR
