BEGIN:VCALENDAR
VERSION:2.0
PRODID:-//horsealert.local//NONSGML kigkonsult.se iCalcreator 2.10.5//
CALSCALE:GREGORIAN
X-WR-TIMEZONE:Europe/Dublin
BEGIN:VTIMEZONE
TZID:Etc/GMT-1
BEGIN:STANDARD
DTSTART:20010101T000000
TZOFFSETFROM:+0100
TZOFFSETTO:+0100
TZNAME:GMT +01:00
END:STANDARD
END:VTIMEZONE
BEGIN:VEVENT
UID:20260423T214029CEST-3148JN3rzx@horsealert.local
DTSTAMP:20260423T190429Z
CATEGORIES:Horse Alerts
DESCRIPTION:Rose De Mai Listed Fillies Stakes
DTSTART:20150315T144000
LOCATION:France
SUMMARY:Horse Racing:Rose De Mai Listed Fillies Stakes
END:VEVENT
END:VCALENDAR
