BEGIN:VCALENDAR
VERSION:2.0
PRODID:-//horsealert.local//NONSGML kigkonsult.se iCalcreator 2.10.5//
CALSCALE:GREGORIAN
X-WR-TIMEZONE:Europe/Dublin
BEGIN:VTIMEZONE
TZID:Etc/GMT-1
BEGIN:STANDARD
DTSTART:20010101T000000
TZOFFSETFROM:+0100
TZOFFSETTO:+0100
TZNAME:GMT +01:00
END:STANDARD
END:VTIMEZONE
BEGIN:VEVENT
UID:20260423T213103CEST-5993wskhvj@horsealert.local
DTSTAMP:20260423T190403Z
CATEGORIES:Horse Alerts
DESCRIPTION:Betfred \'Racing\'s Biggest Supporter\' \'National Hunt\' Novic
 es\' Hurdle
DTSTART:20150314T170000
LOCATION:England
SUMMARY:Horse Racing:Betfred \'Racing\'s Biggest Supporter\' \'National Hun
 t\' Novices\' Hurdle
END:VEVENT
END:VCALENDAR
