BEGIN:VCALENDAR
VERSION:2.0
PRODID:-//horsealert.local//NONSGML kigkonsult.se iCalcreator 2.10.5//
CALSCALE:GREGORIAN
X-WR-TIMEZONE:Europe/Dublin
BEGIN:VTIMEZONE
TZID:Etc/GMT-1
BEGIN:STANDARD
DTSTART:20010101T000000
TZOFFSETFROM:+0100
TZOFFSETTO:+0100
TZNAME:GMT +01:00
END:STANDARD
END:VTIMEZONE
BEGIN:VEVENT
UID:20260423T213231CEST-6762xPzLoB@horsealert.local
DTSTAMP:20260423T190431Z
CATEGORIES:Horse Alerts
DESCRIPTION:59 Hospitality Packages At Limerick Racecourse \(Pro/Am\) Flat 
 Race
DTSTART:20150314T172000
LOCATION:Eire
SUMMARY:Horse Racing:59 Hospitality Packages At Limerick Racecourse \(Pro/A
 m\) Flat Race
END:VEVENT
END:VCALENDAR
