BEGIN:VCALENDAR
VERSION:2.0
PRODID:-//horsealert.local//NONSGML kigkonsult.se iCalcreator 2.10.5//
CALSCALE:GREGORIAN
X-WR-TIMEZONE:Europe/Dublin
BEGIN:VTIMEZONE
TZID:Etc/GMT-1
BEGIN:STANDARD
DTSTART:20010101T000000
TZOFFSETFROM:+0100
TZOFFSETTO:+0100
TZNAME:GMT +01:00
END:STANDARD
END:VTIMEZONE
BEGIN:VEVENT
UID:20260423T212954CEST-0499jWElj5@horsealert.local
DTSTAMP:20260423T190454Z
CATEGORIES:Horse Alerts
DESCRIPTION:Limerick Family Fun Day 29th March Handicap Hurdle \(80-109\)
DTSTART:20150314T161000
LOCATION:Eire
SUMMARY:Horse Racing:Limerick Family Fun Day 29th March Handicap Hurdle \(8
 0-109\)
END:VEVENT
END:VCALENDAR
