BEGIN:VCALENDAR
VERSION:2.0
PRODID:-//horsealert.local//NONSGML kigkonsult.se iCalcreator 2.10.5//
CALSCALE:GREGORIAN
X-WR-TIMEZONE:Europe/Dublin
BEGIN:VTIMEZONE
TZID:Etc/GMT-1
BEGIN:STANDARD
DTSTART:20010101T000000
TZOFFSETFROM:+0100
TZOFFSETTO:+0100
TZNAME:GMT +01:00
END:STANDARD
END:VTIMEZONE
BEGIN:VEVENT
UID:20260423T213042CEST-3492cjLvOd@horsealert.local
DTSTAMP:20260423T190442Z
CATEGORIES:Horse Alerts
DESCRIPTION:A.P. McCoy Grand Annual Handicap Chase \(For The Johnny Henders
 on Challenge Cup\) \(Grade 3\)
DTSTART:20150313T171500
LOCATION:England
SUMMARY:Horse Racing:A.P. McCoy Grand Annual Handicap Chase \(For The Johnn
 y Henderson Challenge Cup\) \(Grade 3\)
END:VEVENT
END:VCALENDAR
