BEGIN:VCALENDAR
VERSION:2.0
PRODID:-//horsealert.local//NONSGML kigkonsult.se iCalcreator 2.10.5//
CALSCALE:GREGORIAN
X-WR-TIMEZONE:Europe/Dublin
BEGIN:VTIMEZONE
TZID:Etc/GMT-1
BEGIN:STANDARD
DTSTART:20010101T000000
TZOFFSETFROM:+0100
TZOFFSETTO:+0100
TZNAME:GMT +01:00
END:STANDARD
END:VTIMEZONE
BEGIN:VEVENT
UID:20260423T212921CEST-9820S64pnb@horsealert.local
DTSTAMP:20260423T190421Z
CATEGORIES:Horse Alerts
DESCRIPTION:coral.co.uk Winter Derby \(All-Weather Championship Fast-Track 
 Qualifier\) \(Group 3\)
DTSTART:20150314T150500
LOCATION:England
SUMMARY:Horse Racing:coral.co.uk Winter Derby \(All-Weather Championship Fa
 st-Track Qualifier\) \(Group 3\)
END:VEVENT
END:VCALENDAR
