BEGIN:VCALENDAR
VERSION:2.0
PRODID:-//horsealert.local//NONSGML kigkonsult.se iCalcreator 2.10.5//
CALSCALE:GREGORIAN
X-WR-TIMEZONE:Europe/Dublin
BEGIN:VTIMEZONE
TZID:Etc/GMT-1
BEGIN:STANDARD
DTSTART:20010101T000000
TZOFFSETFROM:+0100
TZOFFSETTO:+0100
TZNAME:GMT +01:00
END:STANDARD
END:VTIMEZONE
BEGIN:VEVENT
UID:20260423T213043CEST-3243PeE5jI@horsealert.local
DTSTAMP:20260423T190443Z
CATEGORIES:Horse Alerts
DESCRIPTION:Marham Handicap Chase \(For The Walter Wales Memorial Cup\)
DTSTART:20150313T145500
LOCATION:England
SUMMARY:Horse Racing:Marham Handicap Chase \(For The Walter Wales Memorial 
 Cup\)
END:VEVENT
END:VCALENDAR
