BEGIN:VCALENDAR
VERSION:2.0
PRODID:-//horsealert.local//NONSGML kigkonsult.se iCalcreator 2.10.5//
CALSCALE:GREGORIAN
X-WR-TIMEZONE:Europe/Dublin
BEGIN:VTIMEZONE
TZID:Etc/GMT-1
BEGIN:STANDARD
DTSTART:20010101T000000
TZOFFSETFROM:+0100
TZOFFSETTO:+0100
TZNAME:GMT +01:00
END:STANDARD
END:VTIMEZONE
BEGIN:VEVENT
UID:20260423T213213CEST-7471umewvb@horsealert.local
DTSTAMP:20260423T190413Z
CATEGORIES:Horse Alerts
DESCRIPTION:CHELTENHAM - Charity Race - St Patrick\'s Day Derby \(In aid of
  the Injured Jockeys Fund\)
DTSTART:20150312T171500
LOCATION:England
SUMMARY:Horse Racing:CHELTENHAM - Charity Race - St Patrick\'s Day Derby \(
 In aid of the Injured Jockeys Fund\)
END:VEVENT
END:VCALENDAR
