BEGIN:VCALENDAR
VERSION:2.0
PRODID:-//horsealert.local//NONSGML kigkonsult.se iCalcreator 2.10.5//
CALSCALE:GREGORIAN
X-WR-TIMEZONE:Europe/Dublin
BEGIN:VTIMEZONE
TZID:Etc/GMT-1
BEGIN:STANDARD
DTSTART:20010101T000000
TZOFFSETFROM:+0100
TZOFFSETTO:+0100
TZNAME:GMT +01:00
END:STANDARD
END:VTIMEZONE
BEGIN:VEVENT
UID:20260423T212903CEST-3321n0wbDK@horsealert.local
DTSTAMP:20260423T190403Z
CATEGORIES:Horse Alerts
DESCRIPTION:Brown Advisory & Merriebelle Stable Plate \(Grade 3 Handicap Ch
 ase\)
DTSTART:20150312T160000
LOCATION:England
SUMMARY:Horse Racing:Brown Advisory & Merriebelle Stable Plate \(Grade 3 Ha
 ndicap Chase\)
END:VEVENT
END:VCALENDAR
