BEGIN:VCALENDAR
VERSION:2.0
PRODID:-//horsealert.local//NONSGML kigkonsult.se iCalcreator 2.10.5//
CALSCALE:GREGORIAN
X-WR-TIMEZONE:Europe/Dublin
BEGIN:VTIMEZONE
TZID:Etc/GMT-1
BEGIN:STANDARD
DTSTART:20010101T000000
TZOFFSETFROM:+0100
TZOFFSETTO:+0100
TZNAME:GMT +01:00
END:STANDARD
END:VTIMEZONE
BEGIN:VEVENT
UID:20260423T212910CEST-7463KKduRr@horsealert.local
DTSTAMP:20260423T190410Z
CATEGORIES:Horse Alerts
DESCRIPTION:totepool Conditions Stakes \(All-Weather Championship Fast-Trac
 k Qualifier\)
DTSTART:20150312T191000
LOCATION:England
SUMMARY:Horse Racing:totepool Conditions Stakes \(All-Weather Championship 
 Fast-Track Qualifier\)
END:VEVENT
END:VCALENDAR
