BEGIN:VCALENDAR
VERSION:2.0
PRODID:-//horsealert.local//NONSGML kigkonsult.se iCalcreator 2.10.5//
CALSCALE:GREGORIAN
X-WR-TIMEZONE:Europe/Dublin
BEGIN:VTIMEZONE
TZID:Etc/GMT-1
BEGIN:STANDARD
DTSTART:20010101T000000
TZOFFSETFROM:+0100
TZOFFSETTO:+0100
TZNAME:GMT +01:00
END:STANDARD
END:VTIMEZONE
BEGIN:VEVENT
UID:20260423T213111CEST-0044fP1bgu@horsealert.local
DTSTAMP:20260423T190410Z
CATEGORIES:Horse Alerts
DESCRIPTION:Air Ambulance Volunteering Novices\' Hunters\' Chase \(For The 
 Credit Call Cup\)
DTSTART:20150309T161000
LOCATION:England
SUMMARY:Horse Racing:Air Ambulance Volunteering Novices\' Hunters\' Chase \
 (For The Credit Call Cup\)
END:VEVENT
END:VCALENDAR
