BEGIN:VCALENDAR
VERSION:2.0
PRODID:-//horsealert.local//NONSGML kigkonsult.se iCalcreator 2.10.5//
CALSCALE:GREGORIAN
X-WR-TIMEZONE:Europe/Dublin
BEGIN:VTIMEZONE
TZID:Etc/GMT-1
BEGIN:STANDARD
DTSTART:20010101T000000
TZOFFSETFROM:+0100
TZOFFSETTO:+0100
TZNAME:GMT +01:00
END:STANDARD
END:VTIMEZONE
BEGIN:VEVENT
UID:20260423T212905CEST-6079FAbuvb@horsealert.local
DTSTAMP:20260423T190405Z
CATEGORIES:Horse Alerts
DESCRIPTION:Whites - Best Buyers For Copper & Brass Open Hunters\' Chase \(
 For The Air Wedding Challenge Trophy\)
DTSTART:20150308T172000
LOCATION:England
SUMMARY:Horse Racing:Whites - Best Buyers For Copper & Brass Open Hunters\'
  Chase \(For The Air Wedding Challenge Trophy\)
END:VEVENT
END:VCALENDAR
