BEGIN:VCALENDAR
VERSION:2.0
PRODID:-//horsealert.local//NONSGML kigkonsult.se iCalcreator 2.10.5//
CALSCALE:GREGORIAN
X-WR-TIMEZONE:Europe/Dublin
BEGIN:VTIMEZONE
TZID:Etc/GMT-1
BEGIN:STANDARD
DTSTART:20010101T000000
TZOFFSETFROM:+0100
TZOFFSETTO:+0100
TZNAME:GMT +01:00
END:STANDARD
END:VTIMEZONE
BEGIN:VEVENT
UID:20260423T213039CEST-731427vj9c@horsealert.local
DTSTAMP:20260423T190439Z
CATEGORIES:Horse Alerts
DESCRIPTION:William Hill Mobile Cheltenham Offers Juvenile Handicap Hurdle
DTSTART:20150307T132500
LOCATION:England
SUMMARY:Horse Racing:William Hill Mobile Cheltenham Offers Juvenile Handica
 p Hurdle
END:VEVENT
END:VCALENDAR
