BEGIN:VCALENDAR
VERSION:2.0
PRODID:-//horsealert.local//NONSGML kigkonsult.se iCalcreator 2.10.5//
CALSCALE:GREGORIAN
X-WR-TIMEZONE:Europe/Dublin
BEGIN:VTIMEZONE
TZID:Etc/GMT-1
BEGIN:STANDARD
DTSTART:20010101T000000
TZOFFSETFROM:+0100
TZOFFSETTO:+0100
TZNAME:GMT +01:00
END:STANDARD
END:VTIMEZONE
BEGIN:VEVENT
UID:20260423T212923CEST-2731DOoxHb@horsealert.local
DTSTAMP:20260423T190423Z
CATEGORIES:Horse Alerts
DESCRIPTION:Hugh King Sand Handicap Hurdle \(For The Ayrshire Yeomanry Cup\
 )
DTSTART:20150307T163000
LOCATION:Scotland
SUMMARY:Horse Racing:Hugh King Sand Handicap Hurdle \(For The Ayrshire Yeom
 anry Cup\)
END:VEVENT
END:VCALENDAR
