BEGIN:VCALENDAR
VERSION:2.0
PRODID:-//horsealert.local//NONSGML kigkonsult.se iCalcreator 2.10.5//
CALSCALE:GREGORIAN
X-WR-TIMEZONE:Europe/Dublin
BEGIN:VTIMEZONE
TZID:Etc/GMT-1
BEGIN:STANDARD
DTSTART:20010101T000000
TZOFFSETFROM:+0100
TZOFFSETTO:+0100
TZNAME:GMT +01:00
END:STANDARD
END:VTIMEZONE
BEGIN:VEVENT
UID:20260423T212817CEST-4817khv785@horsealert.local
DTSTAMP:20260423T190417Z
CATEGORIES:Horse Alerts
DESCRIPTION:Network Ireland Kildare Branch Supporting International Women\'
 s Day Maiden Hurdle
DTSTART:20150308T163000
LOCATION:Eire
SUMMARY:Horse Racing:Network Ireland Kildare Branch Supporting Internationa
 l Women\'s Day Maiden Hurdle
END:VEVENT
END:VCALENDAR
