BEGIN:VCALENDAR
VERSION:2.0
PRODID:-//horsealert.local//NONSGML kigkonsult.se iCalcreator 2.10.5//
CALSCALE:GREGORIAN
X-WR-TIMEZONE:Europe/Dublin
BEGIN:VTIMEZONE
TZID:Etc/GMT-1
BEGIN:STANDARD
DTSTART:20010101T000000
TZOFFSETFROM:+0100
TZOFFSETTO:+0100
TZNAME:GMT +01:00
END:STANDARD
END:VTIMEZONE
BEGIN:VEVENT
UID:20260423T212734CEST-4887LFtpRB@horsealert.local
DTSTAMP:20260423T190434Z
CATEGORIES:Horse Alerts
DESCRIPTION:Holden Plant Rentals Beginners Chase
DTSTART:20150307T162500
LOCATION:Eire
SUMMARY:Horse Racing:Holden Plant Rentals Beginners Chase
END:VEVENT
END:VCALENDAR
