BEGIN:VCALENDAR
VERSION:2.0
PRODID:-//horsealert.local//NONSGML kigkonsult.se iCalcreator 2.10.5//
CALSCALE:GREGORIAN
X-WR-TIMEZONE:Europe/Dublin
BEGIN:VTIMEZONE
TZID:Etc/GMT-1
BEGIN:STANDARD
DTSTART:20010101T000000
TZOFFSETFROM:+0100
TZOFFSETTO:+0100
TZNAME:GMT +01:00
END:STANDARD
END:VTIMEZONE
BEGIN:VEVENT
UID:20260423T213111CEST-20835poFJK@horsealert.local
DTSTAMP:20260423T190411Z
CATEGORIES:Horse Alerts
DESCRIPTION:Ladbrokes Lady Wulfruna Stakes \(All-Weather Championship Fast-
 Track Qualifier\) \(Listed\)
DTSTART:20150307T141500
LOCATION:England
SUMMARY:Horse Racing:Ladbrokes Lady Wulfruna Stakes \(All-Weather Champions
 hip Fast-Track Qualifier\) \(Listed\)
END:VEVENT
END:VCALENDAR
