BEGIN:VCALENDAR
VERSION:2.0
PRODID:-//horsealert.local//NONSGML kigkonsult.se iCalcreator 2.10.5//
CALSCALE:GREGORIAN
X-WR-TIMEZONE:Europe/Dublin
BEGIN:VTIMEZONE
TZID:Etc/GMT-1
BEGIN:STANDARD
DTSTART:20010101T000000
TZOFFSETFROM:+0100
TZOFFSETTO:+0100
TZNAME:GMT +01:00
END:STANDARD
END:VTIMEZONE
BEGIN:VEVENT
UID:20260423T213037CEST-6455klBvaL@horsealert.local
DTSTAMP:20260423T190437Z
CATEGORIES:Horse Alerts
DESCRIPTION:Seven Exclusive Cheltenham Races On RacingUK Handicap Hurdle \(
 For The James Barclay Challenge Trophy\)
DTSTART:20150306T154000
LOCATION:Scotland
SUMMARY:Horse Racing:Seven Exclusive Cheltenham Races On RacingUK Handicap 
 Hurdle \(For The James Barclay Challenge Trophy\)
END:VEVENT
END:VCALENDAR
