BEGIN:VCALENDAR
VERSION:2.0
PRODID:-//horsealert.local//NONSGML kigkonsult.se iCalcreator 2.10.5//
CALSCALE:GREGORIAN
X-WR-TIMEZONE:Europe/Dublin
BEGIN:VTIMEZONE
TZID:Etc/GMT-1
BEGIN:STANDARD
DTSTART:20010101T000000
TZOFFSETFROM:+0100
TZOFFSETTO:+0100
TZNAME:GMT +01:00
END:STANDARD
END:VTIMEZONE
BEGIN:VEVENT
UID:20260423T212817CEST-5724MURm2K@horsealert.local
DTSTAMP:20260423T190417Z
CATEGORIES:Horse Alerts
DESCRIPTION:Watch The Cheltenham Festival On RacingUK Maiden Hurdle
DTSTART:20150306T143000
LOCATION:Scotland
SUMMARY:Horse Racing:Watch The Cheltenham Festival On RacingUK Maiden Hurdl
 e
END:VEVENT
END:VCALENDAR
