BEGIN:VCALENDAR
VERSION:2.0
PRODID:-//horsealert.local//NONSGML kigkonsult.se iCalcreator 2.10.5//
CALSCALE:GREGORIAN
X-WR-TIMEZONE:Europe/Dublin
BEGIN:VTIMEZONE
TZID:Etc/GMT-1
BEGIN:STANDARD
DTSTART:20010101T000000
TZOFFSETFROM:+0100
TZOFFSETTO:+0100
TZNAME:GMT +01:00
END:STANDARD
END:VTIMEZONE
BEGIN:VEVENT
UID:20260423T212731CEST-8508oBdUhS@horsealert.local
DTSTAMP:20260423T190431Z
CATEGORIES:Horse Alerts
DESCRIPTION:Horse Racing Loyalty Bonus At winner.co.uk \'National Hunt\' No
 vices\' Hurdle
DTSTART:20150305T151000
LOCATION:England
SUMMARY:Horse Racing:Horse Racing Loyalty Bonus At winner.co.uk \'National 
 Hunt\' Novices\' Hurdle
END:VEVENT
END:VCALENDAR
