BEGIN:VCALENDAR
VERSION:2.0
PRODID:-//horsealert.local//NONSGML kigkonsult.se iCalcreator 2.10.5//
CALSCALE:GREGORIAN
X-WR-TIMEZONE:Europe/Dublin
BEGIN:VTIMEZONE
TZID:Etc/GMT-1
BEGIN:STANDARD
DTSTART:20010101T000000
TZOFFSETFROM:+0100
TZOFFSETTO:+0100
TZNAME:GMT +01:00
END:STANDARD
END:VTIMEZONE
BEGIN:VEVENT
UID:20260423T213103CEST-38924Kvuuz@horsealert.local
DTSTAMP:20260423T190403Z
CATEGORIES:Horse Alerts
DESCRIPTION:Irish Thoroughbred Breeders Association \(Northern Region\) Han
 dicap Hurdle \(80-95\)
DTSTART:20150304T155000
LOCATION:Northern Ireland
SUMMARY:Horse Racing:Irish Thoroughbred Breeders Association \(Northern Reg
 ion\) Handicap Hurdle \(80-95\)
END:VEVENT
END:VCALENDAR
