BEGIN:VCALENDAR
VERSION:2.0
PRODID:-//horsealert.local//NONSGML kigkonsult.se iCalcreator 2.10.5//
CALSCALE:GREGORIAN
X-WR-TIMEZONE:Europe/Dublin
BEGIN:VTIMEZONE
TZID:Etc/GMT-1
BEGIN:STANDARD
DTSTART:20010101T000000
TZOFFSETFROM:+0100
TZOFFSETTO:+0100
TZNAME:GMT +01:00
END:STANDARD
END:VTIMEZONE
BEGIN:VEVENT
UID:20260423T213212CEST-8884aTMbfH@horsealert.local
DTSTAMP:20260423T190412Z
CATEGORIES:Horse Alerts
DESCRIPTION:32RedSport.com 3/1 Mullins Cheltenham Win Handicap Chase \(Jock
 ey Club Grassroots Jumps Series Qualifier\)
DTSTART:20150301T153000
LOCATION:England
SUMMARY:Horse Racing:32RedSport.com 3/1 Mullins Cheltenham Win Handicap Cha
 se \(Jockey Club Grassroots Jumps Series Qualifier\)
END:VEVENT
END:VCALENDAR
