BEGIN:VCALENDAR
VERSION:2.0
PRODID:-//horsealert.local//NONSGML kigkonsult.se iCalcreator 2.10.5//
CALSCALE:GREGORIAN
X-WR-TIMEZONE:Europe/Dublin
BEGIN:VTIMEZONE
TZID:Etc/GMT-1
BEGIN:STANDARD
DTSTART:20010101T000000
TZOFFSETFROM:+0100
TZOFFSETTO:+0100
TZNAME:GMT +01:00
END:STANDARD
END:VTIMEZONE
BEGIN:VEVENT
UID:20260423T230101CEST-8212z46aOn@horsealert.local
DTSTAMP:20260423T210401Z
CATEGORIES:Horse Alerts
DESCRIPTION:West Berkshire Racing Club \'Junior\' Bumper \(Junior Standard 
 Open NH Flat Race\)
DTSTART:20150228T170500
LOCATION:England
SUMMARY:Horse Racing:West Berkshire Racing Club \'Junior\' Bumper \(Junior 
 Standard Open NH Flat Race\)
END:VEVENT
END:VCALENDAR
