BEGIN:VCALENDAR
VERSION:2.0
PRODID:-//horsealert.local//NONSGML kigkonsult.se iCalcreator 2.10.5//
CALSCALE:GREGORIAN
X-WR-TIMEZONE:Europe/Dublin
BEGIN:VTIMEZONE
TZID:Etc/GMT-1
BEGIN:STANDARD
DTSTART:20010101T000000
TZOFFSETFROM:+0100
TZOFFSETTO:+0100
TZNAME:GMT +01:00
END:STANDARD
END:VTIMEZONE
BEGIN:VEVENT
UID:20260423T230105CEST-0957RvMfAi@horsealert.local
DTSTAMP:20260423T210405Z
CATEGORIES:Horse Alerts
DESCRIPTION:StanJames.com Supporting Greatwood Gold Cup Handicap Chase \(Gr
 ade 3\)
DTSTART:20150228T152500
LOCATION:England
SUMMARY:Horse Racing:StanJames.com Supporting Greatwood Gold Cup Handicap C
 hase \(Grade 3\)
END:VEVENT
END:VCALENDAR
