BEGIN:VCALENDAR
VERSION:2.0
PRODID:-//horsealert.local//NONSGML kigkonsult.se iCalcreator 2.10.5//
CALSCALE:GREGORIAN
X-WR-TIMEZONE:Europe/Dublin
BEGIN:VTIMEZONE
TZID:Etc/GMT-1
BEGIN:STANDARD
DTSTART:20010101T000000
TZOFFSETFROM:+0100
TZOFFSETTO:+0100
TZNAME:GMT +01:00
END:STANDARD
END:VTIMEZONE
BEGIN:VEVENT
UID:20260423T230105CEST-4586JFw3Vc@horsealert.local
DTSTAMP:20260423T210405Z
CATEGORIES:Horse Alerts
DESCRIPTION:Montbrun Hurdle
DTSTART:20150223T120000
LOCATION:France
SUMMARY:Horse Racing:Montbrun Hurdle
END:VEVENT
END:VCALENDAR
