BEGIN:VCALENDAR
VERSION:2.0
PRODID:-//horsealert.local//NONSGML kigkonsult.se iCalcreator 2.10.5//
CALSCALE:GREGORIAN
X-WR-TIMEZONE:Europe/Dublin
BEGIN:VTIMEZONE
TZID:Etc/GMT-1
BEGIN:STANDARD
DTSTART:20010101T000000
TZOFFSETFROM:+0100
TZOFFSETTO:+0100
TZNAME:GMT +01:00
END:STANDARD
END:VTIMEZONE
BEGIN:VEVENT
UID:20260423T230159CEST-1432UfHbKI@horsealert.local
DTSTAMP:20260423T210459Z
CATEGORIES:Horse Alerts
DESCRIPTION:Howden Insurance Brokers Amateur Riders\' Handicap Chase \(For 
 The Gay Kindersley Memorial Salver\)
DTSTART:20150223T154000
LOCATION:England
SUMMARY:Horse Racing:Howden Insurance Brokers Amateur Riders\' Handicap Cha
 se \(For The Gay Kindersley Memorial Salver\)
END:VEVENT
END:VCALENDAR
