BEGIN:VCALENDAR
VERSION:2.0
PRODID:-//horsealert.local//NONSGML kigkonsult.se iCalcreator 2.10.5//
CALSCALE:GREGORIAN
X-WR-TIMEZONE:Europe/Dublin
BEGIN:VTIMEZONE
TZID:Etc/GMT-1
BEGIN:STANDARD
DTSTART:20010101T000000
TZOFFSETFROM:+0100
TZOFFSETTO:+0100
TZNAME:GMT +01:00
END:STANDARD
END:VTIMEZONE
BEGIN:VEVENT
UID:20260423T230000CEST-0019uuvsxk@horsealert.local
DTSTAMP:20260423T210400Z
CATEGORIES:Horse Alerts
DESCRIPTION:200 Membership At Southwell Golf Club Novices\' Handicap Chase
DTSTART:20150222T140000
LOCATION:England
SUMMARY:Horse Racing:200 Membership At Southwell Golf Club Novices\' Handic
 ap Chase
END:VEVENT
END:VCALENDAR
