BEGIN:VCALENDAR
VERSION:2.0
PRODID:-//horsealert.local//NONSGML kigkonsult.se iCalcreator 2.10.5//
CALSCALE:GREGORIAN
X-WR-TIMEZONE:Europe/Dublin
BEGIN:VTIMEZONE
TZID:Etc/GMT-1
BEGIN:STANDARD
DTSTART:20010101T000000
TZOFFSETFROM:+0100
TZOFFSETTO:+0100
TZNAME:GMT +01:00
END:STANDARD
END:VTIMEZONE
BEGIN:VEVENT
UID:20260423T230003CEST-9120CuZFRt@horsealert.local
DTSTAMP:20260423T210403Z
CATEGORIES:Horse Alerts
DESCRIPTION:totepool Racing\'s Biggest Supporter Handicap Chase \(For The C
 ertain Justice Challenge Trophy\)
DTSTART:20150222T144000
LOCATION:England
SUMMARY:Horse Racing:totepool Racing\'s Biggest Supporter Handicap Chase \(
 For The Certain Justice Challenge Trophy\)
END:VEVENT
END:VCALENDAR
