BEGIN:VCALENDAR
VERSION:2.0
PRODID:-//horsealert.local//NONSGML kigkonsult.se iCalcreator 2.10.5//
CALSCALE:GREGORIAN
X-WR-TIMEZONE:Europe/Dublin
BEGIN:VTIMEZONE
TZID:Etc/GMT-1
BEGIN:STANDARD
DTSTART:20010101T000000
TZOFFSETFROM:+0100
TZOFFSETTO:+0100
TZNAME:GMT +01:00
END:STANDARD
END:VTIMEZONE
BEGIN:VEVENT
UID:20260423T230038CEST-4484JP75RL@horsealert.local
DTSTAMP:20260423T210438Z
CATEGORIES:Horse Alerts
DESCRIPTION:totejackpot Josh Gifford Memorial Novices\' Chase \(For The Jos
 h Gifford Cup\)
DTSTART:20150222T141000
LOCATION:England
SUMMARY:Horse Racing:totejackpot Josh Gifford Memorial Novices\' Chase \(Fo
 r The Josh Gifford Cup\)
END:VEVENT
END:VCALENDAR
