BEGIN:VCALENDAR
VERSION:2.0
PRODID:-//horsealert.local//NONSGML kigkonsult.se iCalcreator 2.10.5//
CALSCALE:GREGORIAN
X-WR-TIMEZONE:Europe/Dublin
BEGIN:VTIMEZONE
TZID:Etc/GMT-1
BEGIN:STANDARD
DTSTART:20010101T000000
TZOFFSETFROM:+0100
TZOFFSETTO:+0100
TZNAME:GMT +01:00
END:STANDARD
END:VTIMEZONE
BEGIN:VEVENT
UID:20260423T230037CEST-966076UCPs@horsealert.local
DTSTAMP:20260423T210437Z
CATEGORIES:Horse Alerts
DESCRIPTION:Paddy Power Shops Better Value Novice Hurdle \(Grade 2\)
DTSTART:20150222T152000
LOCATION:Eire
SUMMARY:Horse Racing:Paddy Power Shops Better Value Novice Hurdle \(Grade 2
 \)
END:VEVENT
END:VCALENDAR
