BEGIN:VCALENDAR
VERSION:2.0
PRODID:-//horsealert.local//NONSGML kigkonsult.se iCalcreator 2.10.5//
CALSCALE:GREGORIAN
X-WR-TIMEZONE:Europe/Dublin
BEGIN:VTIMEZONE
TZID:Etc/GMT-1
BEGIN:STANDARD
DTSTART:20010101T000000
TZOFFSETFROM:+0100
TZOFFSETTO:+0100
TZNAME:GMT +01:00
END:STANDARD
END:VTIMEZONE
BEGIN:VEVENT
UID:20260423T231549CEST-3667X6EgVN@horsealert.local
DTSTAMP:20260423T210449Z
CATEGORIES:Horse Alerts
DESCRIPTION:Festival Any Day Flexi Ticket Mares Maiden Hurdle
DTSTART:20150218T161000
LOCATION:Eire
SUMMARY:Horse Racing:Festival Any Day Flexi Ticket Mares Maiden Hurdle
END:VEVENT
END:VCALENDAR
