BEGIN:VCALENDAR
VERSION:2.0
PRODID:-//horsealert.local//NONSGML kigkonsult.se iCalcreator 2.10.5//
CALSCALE:GREGORIAN
X-WR-TIMEZONE:Europe/Dublin
BEGIN:VTIMEZONE
TZID:Etc/GMT-1
BEGIN:STANDARD
DTSTART:20010101T000000
TZOFFSETFROM:+0100
TZOFFSETTO:+0100
TZNAME:GMT +01:00
END:STANDARD
END:VTIMEZONE
BEGIN:VEVENT
UID:20260423T231550CEST-0951ZLS5X1@horsealert.local
DTSTAMP:20260423T210450Z
CATEGORIES:Horse Alerts
DESCRIPTION:Join The Racing UK Club Mares\' Standard Open NH Flat Race \(Di
 v 1\)
DTSTART:20150217T162500
LOCATION:England
SUMMARY:Horse Racing:Join The Racing UK Club Mares\' Standard Open NH Flat 
 Race \(Div 1\)
END:VEVENT
END:VCALENDAR
