BEGIN:VCALENDAR
VERSION:2.0
PRODID:-//horsealert.local//NONSGML kigkonsult.se iCalcreator 2.10.5//
CALSCALE:GREGORIAN
X-WR-TIMEZONE:Europe/Dublin
BEGIN:VTIMEZONE
TZID:Etc/GMT-1
BEGIN:STANDARD
DTSTART:20010101T000000
TZOFFSETFROM:+0100
TZOFFSETTO:+0100
TZNAME:GMT +01:00
END:STANDARD
END:VTIMEZONE
BEGIN:VEVENT
UID:20260423T231331CEST-3695eLAMwv@horsealert.local
DTSTAMP:20260423T210431Z
CATEGORIES:Horse Alerts
DESCRIPTION:League Of Friends Of The Taunton Hospitals Standard NH Flat Rac
 e \(Conditional/Amateur\)
DTSTART:20150217T172000
LOCATION:England
SUMMARY:Horse Racing:League Of Friends Of The Taunton Hospitals Standard NH
  Flat Race \(Conditional/Amateur\)
END:VEVENT
END:VCALENDAR
