BEGIN:VCALENDAR
VERSION:2.0
PRODID:-//horsealert.local//NONSGML kigkonsult.se iCalcreator 2.10.5//
CALSCALE:GREGORIAN
X-WR-TIMEZONE:Europe/Dublin
BEGIN:VTIMEZONE
TZID:Etc/GMT-1
BEGIN:STANDARD
DTSTART:20010101T000000
TZOFFSETFROM:+0100
TZOFFSETTO:+0100
TZNAME:GMT +01:00
END:STANDARD
END:VTIMEZONE
BEGIN:VEVENT
UID:20260423T230108CEST-66414EwllS@horsealert.local
DTSTAMP:20260423T210408Z
CATEGORIES:Horse Alerts
DESCRIPTION:Join Us On Easter Saturday 4th April Handicap Hurdle \(Connolly
 \'s Red Mills \'Precision Nutrition\' Series Qualifier\)
DTSTART:20150216T160000
LOCATION:England
SUMMARY:Horse Racing:Join Us On Easter Saturday 4th April Handicap Hurdle \
 (Connolly\'s Red Mills \'Precision Nutrition\' Series Qualifier\)
END:VEVENT
END:VCALENDAR
