BEGIN:VCALENDAR
VERSION:2.0
PRODID:-//horsealert.local//NONSGML kigkonsult.se iCalcreator 2.10.5//
CALSCALE:GREGORIAN
X-WR-TIMEZONE:Europe/Dublin
BEGIN:VTIMEZONE
TZID:Etc/GMT-1
BEGIN:STANDARD
DTSTART:20010101T000000
TZOFFSETFROM:+0100
TZOFFSETTO:+0100
TZNAME:GMT +01:00
END:STANDARD
END:VTIMEZONE
BEGIN:VEVENT
UID:20260423T230633CEST-0458Wupp7n@horsealert.local
DTSTAMP:20260423T210433Z
CATEGORIES:Horse Alerts
DESCRIPTION:Montespieu Handicap Chase
DTSTART:20150215T145500
LOCATION:France
SUMMARY:Horse Racing:Montespieu Handicap Chase
END:VEVENT
END:VCALENDAR
