BEGIN:VCALENDAR
VERSION:2.0
PRODID:-//horsealert.local//NONSGML kigkonsult.se iCalcreator 2.10.5//
CALSCALE:GREGORIAN
X-WR-TIMEZONE:Europe/Dublin
BEGIN:VTIMEZONE
TZID:Etc/GMT-1
BEGIN:STANDARD
DTSTART:20010101T000000
TZOFFSETFROM:+0100
TZOFFSETTO:+0100
TZNAME:GMT +01:00
END:STANDARD
END:VTIMEZONE
BEGIN:VEVENT
UID:20260423T230637CEST-5263E2u6Ah@horsealert.local
DTSTAMP:20260423T210437Z
CATEGORIES:Horse Alerts
DESCRIPTION:Connolly\'s Red Mills Handicap Hurdle \(Connolly\'s Red Mills \
 'Precision Nutrition\' Series Qualifier\)
DTSTART:20150215T144000
LOCATION:England
SUMMARY:Horse Racing:Connolly\'s Red Mills Handicap Hurdle \(Connolly\'s Re
 d Mills \'Precision Nutrition\' Series Qualifier\)
END:VEVENT
END:VCALENDAR
