BEGIN:VCALENDAR
VERSION:2.0
PRODID:-//horsealert.local//NONSGML kigkonsult.se iCalcreator 2.10.5//
CALSCALE:GREGORIAN
X-WR-TIMEZONE:Europe/Dublin
BEGIN:VTIMEZONE
TZID:Etc/GMT-1
BEGIN:STANDARD
DTSTART:20010101T000000
TZOFFSETFROM:+0100
TZOFFSETTO:+0100
TZNAME:GMT +01:00
END:STANDARD
END:VTIMEZONE
BEGIN:VEVENT
UID:20260423T231525CEST-9395CXbhPu@horsealert.local
DTSTAMP:20260423T210425Z
CATEGORIES:Horse Alerts
DESCRIPTION:EBF Stallions \'National Hunt\' Novices\' Hurdle \(Qualifier\)
DTSTART:20150213T152500
LOCATION:England
SUMMARY:Horse Racing:EBF Stallions \'National Hunt\' Novices\' Hurdle \(Qua
 lifier\)
END:VEVENT
END:VCALENDAR
