BEGIN:VCALENDAR
VERSION:2.0
PRODID:-//horsealert.local//NONSGML kigkonsult.se iCalcreator 2.10.5//
CALSCALE:GREGORIAN
X-WR-TIMEZONE:Europe/Dublin
BEGIN:VTIMEZONE
TZID:Etc/GMT-1
BEGIN:STANDARD
DTSTART:20010101T000000
TZOFFSETFROM:+0100
TZOFFSETTO:+0100
TZNAME:GMT +01:00
END:STANDARD
END:VTIMEZONE
BEGIN:VEVENT
UID:20260423T231220CEST-3093cx1Auc@horsealert.local
DTSTAMP:20260423T210420Z
CATEGORIES:Horse Alerts
DESCRIPTION:Dick Saunders Novices\' Hunters\' Chase
DTSTART:20150212T161000
LOCATION:England
SUMMARY:Horse Racing:Dick Saunders Novices\' Hunters\' Chase
END:VEVENT
END:VCALENDAR
