BEGIN:VCALENDAR
VERSION:2.0
PRODID:-//horsealert.local//NONSGML kigkonsult.se iCalcreator 2.10.5//
CALSCALE:GREGORIAN
X-WR-TIMEZONE:Europe/Dublin
BEGIN:VTIMEZONE
TZID:Etc/GMT-1
BEGIN:STANDARD
DTSTART:20010101T000000
TZOFFSETFROM:+0100
TZOFFSETTO:+0100
TZNAME:GMT +01:00
END:STANDARD
END:VTIMEZONE
BEGIN:VEVENT
UID:20260423T230713CEST-4910V0xMvS@horsealert.local
DTSTAMP:20260423T210413Z
CATEGORIES:Horse Alerts
DESCRIPTION:Betfair Price Rush Chase \(Registered As The Game Spirit Chase\
 ) \(Grade 2\)
DTSTART:20150207T150000
LOCATION:England
SUMMARY:Horse Racing:Betfair Price Rush Chase \(Registered As The Game Spir
 it Chase\) \(Grade 2\)
END:VEVENT
END:VCALENDAR
