BEGIN:VCALENDAR
VERSION:2.0
PRODID:-//horsealert.local//NONSGML kigkonsult.se iCalcreator 2.10.5//
CALSCALE:GREGORIAN
X-WR-TIMEZONE:Europe/Dublin
BEGIN:VTIMEZONE
TZID:Etc/GMT-1
BEGIN:STANDARD
DTSTART:20010101T000000
TZOFFSETFROM:+0100
TZOFFSETTO:+0100
TZNAME:GMT +01:00
END:STANDARD
END:VTIMEZONE
BEGIN:VEVENT
UID:20260423T230001CEST-8626bse5fs@horsealert.local
DTSTAMP:20260423T210401Z
CATEGORIES:Horse Alerts
DESCRIPTION:New Racing UK iPad App Novices\' Hurdle
DTSTART:20150206T140000
LOCATION:England
SUMMARY:Horse Racing:New Racing UK iPad App Novices\' Hurdle
END:VEVENT
END:VCALENDAR
