BEGIN:VCALENDAR
VERSION:2.0
PRODID:-//horsealert.local//NONSGML kigkonsult.se iCalcreator 2.10.5//
CALSCALE:GREGORIAN
X-WR-TIMEZONE:Europe/Dublin
BEGIN:VTIMEZONE
TZID:Etc/GMT-1
BEGIN:STANDARD
DTSTART:20010101T000000
TZOFFSETFROM:+0100
TZOFFSETTO:+0100
TZNAME:GMT +01:00
END:STANDARD
END:VTIMEZONE
BEGIN:VEVENT
UID:20260423T230633CEST-3791uwO2DL@horsealert.local
DTSTAMP:20260423T210433Z
CATEGORIES:Horse Alerts
DESCRIPTION:BHEST Racing To School Racing Excellence \'Hands And Heels\' Ha
 ndicap Hurdle \(Conditional/Amateur\)
DTSTART:20150205T133500
LOCATION:England
SUMMARY:Horse Racing:BHEST Racing To School Racing Excellence \'Hands And H
 eels\' Handicap Hurdle \(Conditional/Amateur\)
END:VEVENT
END:VCALENDAR
