BEGIN:VCALENDAR
VERSION:2.0
PRODID:-//horsealert.local//NONSGML kigkonsult.se iCalcreator 2.10.5//
CALSCALE:GREGORIAN
X-WR-TIMEZONE:Europe/Dublin
BEGIN:VTIMEZONE
TZID:Etc/GMT-1
BEGIN:STANDARD
DTSTART:20010101T000000
TZOFFSETFROM:+0100
TZOFFSETTO:+0100
TZNAME:GMT +01:00
END:STANDARD
END:VTIMEZONE
BEGIN:VEVENT
UID:20260423T230814CEST-5354VgkDZC@horsealert.local
DTSTAMP:20260423T210414Z
CATEGORIES:Horse Alerts
DESCRIPTION:Enjoy Ashes 2015 Hospitality With Eventmasters EBF Stallions \'
 National Hunt\' Novices\' Hurdle \(Qualifier\) \(Div 1\)
DTSTART:20150205T134000
LOCATION:England
SUMMARY:Horse Racing:Enjoy Ashes 2015 Hospitality With Eventmasters EBF Sta
 llions \'National Hunt\' Novices\' Hurdle \(Qualifier\) \(Div 1\)
END:VEVENT
END:VCALENDAR
